BEGIN:VCALENDAR
VERSION:2.0
PRODID:-//Gemeinde Rommerskirchen - ECPv6.15.17.1//NONSGML v1.0//EN
CALSCALE:GREGORIAN
METHOD:PUBLISH
X-WR-CALNAME:Gemeinde Rommerskirchen
X-ORIGINAL-URL:https://www.rommerskirchen.de
X-WR-CALDESC:Veranstaltungen für Gemeinde Rommerskirchen
REFRESH-INTERVAL;VALUE=DURATION:PT1H
X-Robots-Tag:noindex
X-PUBLISHED-TTL:PT1H
BEGIN:VTIMEZONE
TZID:Europe/Berlin
BEGIN:DAYLIGHT
TZOFFSETFROM:+0100
TZOFFSETTO:+0200
TZNAME:CEST
DTSTART:20250330T010000
END:DAYLIGHT
BEGIN:STANDARD
TZOFFSETFROM:+0200
TZOFFSETTO:+0100
TZNAME:CET
DTSTART:20251026T010000
END:STANDARD
BEGIN:DAYLIGHT
TZOFFSETFROM:+0100
TZOFFSETTO:+0200
TZNAME:CEST
DTSTART:20260329T010000
END:DAYLIGHT
BEGIN:STANDARD
TZOFFSETFROM:+0200
TZOFFSETTO:+0100
TZNAME:CET
DTSTART:20261025T010000
END:STANDARD
BEGIN:DAYLIGHT
TZOFFSETFROM:+0100
TZOFFSETTO:+0200
TZNAME:CEST
DTSTART:20270328T010000
END:DAYLIGHT
BEGIN:STANDARD
TZOFFSETFROM:+0200
TZOFFSETTO:+0100
TZNAME:CET
DTSTART:20271031T010000
END:STANDARD
END:VTIMEZONE
BEGIN:VEVENT
DTSTART;TZID=Europe/Berlin:20260503T100000
DTEND;TZID=Europe/Berlin:20260503T180000
DTSTAMP:20260423T182443
CREATED:20260423T091300Z
LAST-MODIFIED:20260423T091300Z
UID:10003778-1777802400-1777831200@www.rommerskirchen.de
SUMMARY:Mit Volldampf ins Jubiläumsjahr
DESCRIPTION:Feldbahnmuseum Rommerskirchen zurück aus der Winterpause \nAm Sonntag\, den 03.Mai\, öffnet das beliebte Feldbahnmuseum-Oekoven endlich wieder seine Pforten für alle Besucher und startet zugleich auch in sein Jubiläumsjahr anlässlich der Gründung des Museums vor 50 Jahren. Auch in der Winterpause haben sich die fleißigen Ehrenamtler des Museums nicht ausgeruht und zahlreiche Projekte\, wie z.B. eine erweiterte Beschilderung der Informationstafeln umgesetzt. \nFür Eisenbahnfans jeden Alters wird wieder viel geboten. So verkehrt stündlich ab 10:30 Uhr bis 16:30 Uhr der historische Personenzug\, gezogen von einer Dampflok des Typs Jung „Hilax“\, Baujahr 1941. Auch die Kindereisenbahn nimmt wieder Fahrt auf und das „Bistro 600“ weiß mit kleinen Speisen und Getränken sowie frischen Waffeln mit Kirschen und Sahne zu fairen Preisen zu verwöhnen. \nDer Eintritt ist frei\, nähere Informationen unter www.gillbachbahn.de . Auch Parkplätze sind in ausreichender Anzahl vorhanden. Der Verein und die zahlreichen ehrenamtlichen Helfer freuen sich auf Sie. \n 
URL:https://www.rommerskirchen.de/veranstaltung/mit-volldampf-ins-jubilaeumsjahr/
LOCATION:Feldbahnmuseum Oekoven\, Zur Werksbahn 1\, Rommerskirchen\, 41569
CATEGORIES:Ereignis
ATTACH;FMTTYPE=image/jpeg:https://www.rommerskirchen.de/wp-content/uploads/2026/04/IMG_6631-2-1-scaled.jpg
ORGANIZER;CN="Feldbahnmuseum Rommerskirchen-Oekoven":MAILTO:info@gillbachbahn.de
END:VEVENT
END:VCALENDAR