BEGIN:VCALENDAR
VERSION:2.0
PRODID:-//Gemeinde Rommerskirchen - ECPv6.15.17.1//NONSGML v1.0//EN
CALSCALE:GREGORIAN
METHOD:PUBLISH
X-ORIGINAL-URL:https://www.rommerskirchen.de
X-WR-CALDESC:Veranstaltungen für Gemeinde Rommerskirchen
REFRESH-INTERVAL;VALUE=DURATION:PT1H
X-Robots-Tag:noindex
X-PUBLISHED-TTL:PT1H
BEGIN:VTIMEZONE
TZID:Europe/Berlin
BEGIN:DAYLIGHT
TZOFFSETFROM:+0100
TZOFFSETTO:+0200
TZNAME:CEST
DTSTART:20250330T010000
END:DAYLIGHT
BEGIN:STANDARD
TZOFFSETFROM:+0200
TZOFFSETTO:+0100
TZNAME:CET
DTSTART:20251026T010000
END:STANDARD
BEGIN:DAYLIGHT
TZOFFSETFROM:+0100
TZOFFSETTO:+0200
TZNAME:CEST
DTSTART:20260329T010000
END:DAYLIGHT
BEGIN:STANDARD
TZOFFSETFROM:+0200
TZOFFSETTO:+0100
TZNAME:CET
DTSTART:20261025T010000
END:STANDARD
BEGIN:DAYLIGHT
TZOFFSETFROM:+0100
TZOFFSETTO:+0200
TZNAME:CEST
DTSTART:20270328T010000
END:DAYLIGHT
BEGIN:STANDARD
TZOFFSETFROM:+0200
TZOFFSETTO:+0100
TZNAME:CET
DTSTART:20271031T010000
END:STANDARD
END:VTIMEZONE
BEGIN:VEVENT
DTSTART;TZID=Europe/Berlin:20260502T113000
DTEND;TZID=Europe/Berlin:20260502T153000
DTSTAMP:20260422T133036
CREATED:20260422T071037Z
LAST-MODIFIED:20260422T071037Z
UID:10003777-1777721400-1777735800@www.rommerskirchen.de
SUMMARY:"Anfliegen" der Modellflieger
DESCRIPTION:Das sogenannte “Anfliegen“ ist für die Mitglieder des Modellflugvereins Apollo Butzheim e.V. traditionell ein geselliges Treffen und der offizielle Start in die neue Saison. Dabei haben interessierte Zuschauer eine gute Gelegenheit\, Flugmodelle am Boden und in der Luft zu sehen. Es ist ein für Alle entspannter Tag zum Fliegen ohne festes Programm und bietet die Möglichkeit\, auf Fragen von interessierten Besuchern direkt vor Ort einzugehen. \nBesucher biegen in Butzheim in die Gartenstrasse (max. 30 km/h) und fahren ca. 1\,3 km immer geradeaus. Dann nach links abbiegen unter die Hochspannungsleitung bis auf der rechten Seite das Vereinsgelände zu sehen ist.
URL:https://www.rommerskirchen.de/veranstaltung/anfliegen-der-modellflieger/
LOCATION:Modellflugplatz\, Gartenstrasse 1000\, Butzheim\, 41569
CATEGORIES:Sport
ATTACH;FMTTYPE=image/jpeg:https://www.rommerskirchen.de/wp-content/uploads/2026/04/DSC01496-scaled.jpg
ORGANIZER;CN="MFC Apollo Butzheim e.V.":MAILTO:info@apollo-butzheim.de
END:VEVENT
END:VCALENDAR