BEGIN:VCALENDAR
VERSION:2.0
PRODID:-//Gemeinde Rommerskirchen - ECPv6.15.17.1//NONSGML v1.0//EN
CALSCALE:GREGORIAN
METHOD:PUBLISH
X-WR-CALNAME:Gemeinde Rommerskirchen
X-ORIGINAL-URL:https://www.rommerskirchen.de
X-WR-CALDESC:Veranstaltungen für Gemeinde Rommerskirchen
REFRESH-INTERVAL;VALUE=DURATION:PT1H
X-Robots-Tag:noindex
X-PUBLISHED-TTL:PT1H
BEGIN:VTIMEZONE
TZID:Europe/Berlin
BEGIN:DAYLIGHT
TZOFFSETFROM:+0100
TZOFFSETTO:+0200
TZNAME:CEST
DTSTART:20250330T010000
END:DAYLIGHT
BEGIN:STANDARD
TZOFFSETFROM:+0200
TZOFFSETTO:+0100
TZNAME:CET
DTSTART:20251026T010000
END:STANDARD
BEGIN:DAYLIGHT
TZOFFSETFROM:+0100
TZOFFSETTO:+0200
TZNAME:CEST
DTSTART:20260329T010000
END:DAYLIGHT
BEGIN:STANDARD
TZOFFSETFROM:+0200
TZOFFSETTO:+0100
TZNAME:CET
DTSTART:20261025T010000
END:STANDARD
BEGIN:DAYLIGHT
TZOFFSETFROM:+0100
TZOFFSETTO:+0200
TZNAME:CEST
DTSTART:20270328T010000
END:DAYLIGHT
BEGIN:STANDARD
TZOFFSETFROM:+0200
TZOFFSETTO:+0100
TZNAME:CET
DTSTART:20271031T010000
END:STANDARD
END:VTIMEZONE
BEGIN:VEVENT
DTSTART;TZID=Europe/Berlin:20260314T140000
DTEND;TZID=Europe/Berlin:20260314T163000
DTSTAMP:20260421T173514
CREATED:20260220T103447Z
LAST-MODIFIED:20260220T103447Z
UID:10003773-1773496800-1773505800@www.rommerskirchen.de
SUMMARY:Frauen-Café anlässlich des Internationalen Frauentages
DESCRIPTION:Veranstaltung zum Internationalen Frauentag \nDie traditionelle Veranstaltung der Gleichstellungsbeauftragten der Gemeinde Rommerskirchen anlässlich des Internationalen Frauentags findet am Samstag\, 14. März\, um 14 Uhr im Ratssaal der Gemeinde statt. \nIn diesem Jahr werden die Lebenswege ganz verschiedener Frauen beleuchtet. Autorin Nicole Keilhau und Künstler Frät stellen ihr neues Buchprojekt vor. \n52 Geschichten über Frauen. Schriftstellerinnen\, Politikerinnen\, Schauspielerinnen\, Musikerinnen und Aktivistinnen. Nicole Keilhau schreibt über die 52 Frauen aus Ihrer ganz persönlichen Sicht. Mal witzig\, ironisch\, mal aus einer anerkennenden Position\, mal einfach\, weil die Geschichte der Frau noch einmal erzählt werden muss. Begleitet werden die Stories von Frät ComicPopart Illustrationen. \nIm Anschluss bleibt genügend Zeit für Gespräche\, Austausch und natürlich auch Gebäck und Getränken. Der Eintritt ist frei. \nUm Anmeldung wird gebeten unter 02183 8004101 oder via E-Mail gleichstellung@rommerskirchen.de
URL:https://www.rommerskirchen.de/veranstaltung/frauen-cafe-anlaesslich-des-internationalen-frauentages-2/
LOCATION:Ratssaal der Gemeinde Rommerskirchen\, Bahnstraße 51\, 2. OG\, Rommerskirchen\, NRW\, Deutschland
CATEGORIES:Ereignis,Gemeinde Rommerskirchen,Internationale Termine
ORGANIZER;CN="Gleichstellungsbeauftragte%2C Gemeinde Rommerskirchen":MAILTO:nicole.musiol@rommerskirchen.de
END:VEVENT
BEGIN:VEVENT
DTSTART;TZID=Europe/Berlin:20260321T100000
DTEND;TZID=Europe/Berlin:20260321T140000
DTSTAMP:20260421T173514
CREATED:20260112T151506Z
LAST-MODIFIED:20260112T151506Z
UID:10003768-1774087200-1774101600@www.rommerskirchen.de
SUMMARY:Umwelttag – Fit für den Frühling
DESCRIPTION:Gemeinsames Müllsammeln für eine saubere Umwelt in Rommerskirchen mit anschließender Abschlussveranstaltung in der Gillbachschule mit heißer Suppe und kalten Getränken. Weiter Infos und Anmeldung unter: https://www.rommerskirchen.de/bauen-umwelt/umwelt-und-klima/umwelttag/
URL:https://www.rommerskirchen.de/veranstaltung/umwelttag-fit-fuer-den-fruehling-2/
LOCATION:Gillbachschule Rommerskirchen (Pausenhalle)\, Nettesheimer Weg 44\, Rommerskirchen\, NRW\, 41569\, Deutschland
CATEGORIES:Veranstaltung
ORGANIZER;CN="Gemeinde Rommerskirchen":MAILTO:info@rommerskirchen.de
END:VEVENT
BEGIN:VEVENT
DTSTART;TZID=Europe/Berlin:20260324T153000
DTEND;TZID=Europe/Berlin:20260324T163000
DTSTAMP:20260421T173514
CREATED:20260112T150743Z
LAST-MODIFIED:20260205T144221Z
UID:10003763-1774366200-1774369800@www.rommerskirchen.de
SUMMARY:Kindertheater- Pippi Langstrumpf
DESCRIPTION:Zu Gast in Rommerskirchen ist das Niederrheintheater mit dem Stück “Pippi Langstrumpf“ \nDie Aufführung findet im Rahmen der Kindertheaterreihe\, die gemeinsam vom Jugendamt des Rhein-Kreises Neuss und der Gemeinde Rommerskirchen für Kinder ab einem Alter von vier Jahren veranstaltet wird\, statt. \nDas Stück ist zu sehen \nam Dienstag\, den 24.03.2026\, um 15.30 Uhr in der\nGillbachschule Nettesheimer Weg 44\n41569 Rommerskirchen\nDie Spielzeit beträgt ca. 60 Minuten. \nDie Zuschauerzahl ist begrenzt\, aus diesem Grund wird darum gebeten\, pro Kind mit nur einer Begleitperson zu erscheinen und keine kleineren Geschwister im Kinderwagen oder Buggy mitzubringen. \nDer Eintritt beträgt 3\,00 € pro Person. Familienkarteninhaber erhalten einen Rabatt von 1\,- €. Es findet kein Vorverkauf statt. An der Tageskasse können nur Karten erworben werden\, sofern das Kontingent noch nicht erschöpft ist. \nIn der Pausenhalle ist der Verzehr von Speisen und Getränken untersagt. \n 
URL:https://www.rommerskirchen.de/veranstaltung/kindertheater-pipi-langstrumpf/
LOCATION:Gillbachschule Rommerskirchen (Pausenhalle)\, Nettesheimer Weg 44\, Rommerskirchen\, NRW\, 41569\, Deutschland
CATEGORIES:Kindertheater
END:VEVENT
BEGIN:VEVENT
DTSTART;TZID=Europe/Berlin:20260328T100000
DTEND;TZID=Europe/Berlin:20260328T160000
DTSTAMP:20260421T173514
CREATED:20260305T100859Z
LAST-MODIFIED:20260305T100859Z
UID:10003774-1774692000-1774713600@www.rommerskirchen.de
SUMMARY:Pflanzaktion Hoeningen
DESCRIPTION:Die Gemeinde möchte die Aufforstung des Wäldchens zwischen der K27 und der Sportanlage Hoeningen als Gelegenheit nutzen\, Bürgerinnen und Bürger aller Altersklassen aktiv einzubeziehen und gemeinsam einen artenreichen\, klimaresilienten Wald zu schaffen. Am Samstag\, 28.03.2026 werden spannende Mitmach-Stationen für Klein und Groß angeboten\, deren Höhepunkt die Pflanzung der Bäume ist. Treffpunkt ist an der Stephanusstraße am Sportplatz Hoeningen. Vorkenntnisse sind nicht nötig\, einzig Motivation\, Tatendrang sowie passende Kleidung sollten mitgebracht werden.\nUm die Planung zu vereinfachen\, wird um eine Anmeldung für eine der drei Zeitschienen gebeten:\n10 bis 12 Uhr\n12 bis 14 Uhr\n14 bis 16 Uhr\nEine formlose E-Mail unter Angabe der Personenzahl und des Zeitraums an klimaschutz@rommerskirchen.de oder eine telefonische Anmeldung unter 02183 8006604 ist ausreichend. \n 
URL:https://www.rommerskirchen.de/veranstaltung/pflanzaktion-hoeningen/
LOCATION:Stephanusstraße am Sportplatz Hoeningen\, Stephanusstraße\, Sportplatz Hoeningen\, 41569\, Deutschland
ORGANIZER;CN="Gemeinde Rommerskirchen":MAILTO:info@rommerskirchen.de
END:VEVENT
END:VCALENDAR