BEGIN:VCALENDAR
VERSION:2.0
PRODID:-//Gemeinde Rommerskirchen - ECPv6.15.17.1//NONSGML v1.0//EN
CALSCALE:GREGORIAN
METHOD:PUBLISH
X-ORIGINAL-URL:https://www.rommerskirchen.de
X-WR-CALDESC:Veranstaltungen für Gemeinde Rommerskirchen
REFRESH-INTERVAL;VALUE=DURATION:PT1H
X-Robots-Tag:noindex
X-PUBLISHED-TTL:PT1H
BEGIN:VTIMEZONE
TZID:Europe/Berlin
BEGIN:DAYLIGHT
TZOFFSETFROM:+0100
TZOFFSETTO:+0200
TZNAME:CEST
DTSTART:20250330T010000
END:DAYLIGHT
BEGIN:STANDARD
TZOFFSETFROM:+0200
TZOFFSETTO:+0100
TZNAME:CET
DTSTART:20251026T010000
END:STANDARD
BEGIN:DAYLIGHT
TZOFFSETFROM:+0100
TZOFFSETTO:+0200
TZNAME:CEST
DTSTART:20260329T010000
END:DAYLIGHT
BEGIN:STANDARD
TZOFFSETFROM:+0200
TZOFFSETTO:+0100
TZNAME:CET
DTSTART:20261025T010000
END:STANDARD
BEGIN:DAYLIGHT
TZOFFSETFROM:+0100
TZOFFSETTO:+0200
TZNAME:CEST
DTSTART:20270328T010000
END:DAYLIGHT
BEGIN:STANDARD
TZOFFSETFROM:+0200
TZOFFSETTO:+0100
TZNAME:CET
DTSTART:20271031T010000
END:STANDARD
END:VTIMEZONE
BEGIN:VEVENT
DTSTART;TZID=Europe/Berlin:20260328T100000
DTEND;TZID=Europe/Berlin:20260328T160000
DTSTAMP:20260421T190842
CREATED:20260305T100859Z
LAST-MODIFIED:20260305T100859Z
UID:10003774-1774692000-1774713600@www.rommerskirchen.de
SUMMARY:Pflanzaktion Hoeningen
DESCRIPTION:Die Gemeinde möchte die Aufforstung des Wäldchens zwischen der K27 und der Sportanlage Hoeningen als Gelegenheit nutzen\, Bürgerinnen und Bürger aller Altersklassen aktiv einzubeziehen und gemeinsam einen artenreichen\, klimaresilienten Wald zu schaffen. Am Samstag\, 28.03.2026 werden spannende Mitmach-Stationen für Klein und Groß angeboten\, deren Höhepunkt die Pflanzung der Bäume ist. Treffpunkt ist an der Stephanusstraße am Sportplatz Hoeningen. Vorkenntnisse sind nicht nötig\, einzig Motivation\, Tatendrang sowie passende Kleidung sollten mitgebracht werden.\nUm die Planung zu vereinfachen\, wird um eine Anmeldung für eine der drei Zeitschienen gebeten:\n10 bis 12 Uhr\n12 bis 14 Uhr\n14 bis 16 Uhr\nEine formlose E-Mail unter Angabe der Personenzahl und des Zeitraums an klimaschutz@rommerskirchen.de oder eine telefonische Anmeldung unter 02183 8006604 ist ausreichend. \n 
URL:https://www.rommerskirchen.de/veranstaltung/pflanzaktion-hoeningen/
LOCATION:Stephanusstraße am Sportplatz Hoeningen\, Stephanusstraße\, Sportplatz Hoeningen\, 41569\, Deutschland
ORGANIZER;CN="Gemeinde Rommerskirchen":MAILTO:info@rommerskirchen.de
END:VEVENT
END:VCALENDAR