BEGIN:VCALENDAR
VERSION:2.0
PRODID:-//Gemeinde Rommerskirchen - ECPv6.15.17.1//NONSGML v1.0//EN
CALSCALE:GREGORIAN
METHOD:PUBLISH
X-ORIGINAL-URL:https://www.rommerskirchen.de
X-WR-CALDESC:Veranstaltungen für Gemeinde Rommerskirchen
REFRESH-INTERVAL;VALUE=DURATION:PT1H
X-Robots-Tag:noindex
X-PUBLISHED-TTL:PT1H
BEGIN:VTIMEZONE
TZID:Europe/Berlin
BEGIN:DAYLIGHT
TZOFFSETFROM:+0100
TZOFFSETTO:+0200
TZNAME:CEST
DTSTART:20240331T010000
END:DAYLIGHT
BEGIN:STANDARD
TZOFFSETFROM:+0200
TZOFFSETTO:+0100
TZNAME:CET
DTSTART:20241027T010000
END:STANDARD
BEGIN:DAYLIGHT
TZOFFSETFROM:+0100
TZOFFSETTO:+0200
TZNAME:CEST
DTSTART:20250330T010000
END:DAYLIGHT
BEGIN:STANDARD
TZOFFSETFROM:+0200
TZOFFSETTO:+0100
TZNAME:CET
DTSTART:20251026T010000
END:STANDARD
BEGIN:DAYLIGHT
TZOFFSETFROM:+0100
TZOFFSETTO:+0200
TZNAME:CEST
DTSTART:20260329T010000
END:DAYLIGHT
BEGIN:STANDARD
TZOFFSETFROM:+0200
TZOFFSETTO:+0100
TZNAME:CET
DTSTART:20261025T010000
END:STANDARD
END:VTIMEZONE
BEGIN:VEVENT
DTSTART;TZID=Europe/Berlin:20251216T153000
DTEND;TZID=Europe/Berlin:20251216T163000
DTSTAMP:20260421T222540
CREATED:20250317T130952Z
LAST-MODIFIED:20250317T130952Z
UID:10003700-1765899000-1765902600@www.rommerskirchen.de
SUMMARY:Kindertheater - Wie Engel fliegen lernen
DESCRIPTION:Zu Gast in Rommerskirchen ist das Brille Theater mit dem Stück “Wie Engel fliegen lernen“ \nDie Aufführung findet im Rahmen der Kindertheaterreihe\, die gemeinsam vom Jugendamt des Rhein-Kreises Neuss und der Gemeinde Rommerskirchen für Kinder ab einem Alter von vier Jahren veranstaltet wird\, statt. \nDas Stück ist zu sehen \nam Dienstag\, den 16.12.2025\, um 15.30 Uhr in der\nGillbachschule Nettesheimer Weg 44\n41569 Rommerskirchen\nDie Spielzeit beträgt ca. 60 Minuten. \nDie Zuschauerzahl ist begrenzt\, aus diesem Grund wird darum gebeten\, pro Kind mit nur einer Begleitperson zu erscheinen und keine kleineren Geschwister im Kinderwagen oder Buggy mitzubringen. \nDer Eintritt beträgt 3\,00 € pro Person. Familienkarteninhaber erhalten einen Rabatt von 1\,- €. Es findet kein Vorverkauf statt. An der Tageskasse können nur Karten erworben werden\, sofern das Kontingent noch nicht erschöpft ist. \nIn der Pausenhalle ist der Verzehr von Speisen und Getränken untersagt.
URL:https://www.rommerskirchen.de/veranstaltung/kindertheater-wie-engel-fliegen-lernen/
LOCATION:Gillbachschule Rommerskirchen (Pausenhalle)\, Nettesheimer Weg 44\, Rommerskirchen\, NRW\, 41569\, Deutschland
CATEGORIES:Kindertheater
END:VEVENT
END:VCALENDAR