BEGIN:VCALENDAR
VERSION:2.0
PRODID:-//Gemeinde Rommerskirchen - ECPv6.15.17.1//NONSGML v1.0//EN
CALSCALE:GREGORIAN
METHOD:PUBLISH
X-WR-CALNAME:Gemeinde Rommerskirchen
X-ORIGINAL-URL:https://www.rommerskirchen.de
X-WR-CALDESC:Veranstaltungen für Gemeinde Rommerskirchen
REFRESH-INTERVAL;VALUE=DURATION:PT1H
X-Robots-Tag:noindex
X-PUBLISHED-TTL:PT1H
BEGIN:VTIMEZONE
TZID:Europe/Berlin
BEGIN:DAYLIGHT
TZOFFSETFROM:+0100
TZOFFSETTO:+0200
TZNAME:CEST
DTSTART:20240331T010000
END:DAYLIGHT
BEGIN:STANDARD
TZOFFSETFROM:+0200
TZOFFSETTO:+0100
TZNAME:CET
DTSTART:20241027T010000
END:STANDARD
BEGIN:DAYLIGHT
TZOFFSETFROM:+0100
TZOFFSETTO:+0200
TZNAME:CEST
DTSTART:20250330T010000
END:DAYLIGHT
BEGIN:STANDARD
TZOFFSETFROM:+0200
TZOFFSETTO:+0100
TZNAME:CET
DTSTART:20251026T010000
END:STANDARD
BEGIN:DAYLIGHT
TZOFFSETFROM:+0100
TZOFFSETTO:+0200
TZNAME:CEST
DTSTART:20260329T010000
END:DAYLIGHT
BEGIN:STANDARD
TZOFFSETFROM:+0200
TZOFFSETTO:+0100
TZNAME:CET
DTSTART:20261025T010000
END:STANDARD
END:VTIMEZONE
BEGIN:VEVENT
DTSTART;TZID=Europe/Berlin:20251206T150000
DTEND;TZID=Europe/Berlin:20251206T230000
DTSTAMP:20260421T222347
CREATED:20251028T153957Z
LAST-MODIFIED:20251028T153957Z
UID:10003751-1765033200-1765062000@www.rommerskirchen.de
SUMMARY:Weihnachtssingen mit Weihnachtsmarkt in Oekoven
DESCRIPTION:Liebe Gäste\, \nAuch im Jahr 2025 wird in Oekoven wieder das beliebte Weihnachtssingen gemeinsam mit dem Weihnachtsmarkt veranstaltet. Dank der engagierten Mithilfe vieler Vereine und Gruppierungen vor Ort dürfen sich alle Besucherinnen und Besucher auf ein abwechslungsreiches Programm freuen. \nDer Chor Celebration sorgt in der heimeligen Dorfkirche St. Briktius für die musikalische Einstimmung auf die Advents- und Weihnachtszeit. Dabei werden zahlreiche bekannte Lieder vorgetragen\, bei denen Mitsingen ausdrücklich erwünscht ist. \nAuf unserem dörflichen Weihnachtsmarkt erwartet Sie eine Vielzahl kulinarischer Köstlichkeiten\, darunter frische Reibekuchen\, exzellenter Glühwein\, edle Tropfen von Prinz\, heißer Kaffee und selbstgemachter Kuchen. Darüber hinaus bieten Stände kunsthandwerkliche Dekorationsideen\, Selbstgebasteltes und vieles mehr an. \nUnsere jüngsten Gäste dürfen sich auf den Besuch des Nikolaus freuen. Für alle steht ein gemütliches\, beheiztes Zelt bereit\, das zum Plausch mit alten und neuen Freunden einlädt. \nWir freuen uns auf Ihr Kommen! \nProgramm am 06.12.2025 \n15:00 Uhr \nEröffnung des Weihnachtsmarkts \n15:00 Uhr – 17:00 Uhr \nAdventkaffee ausgerichtet von der Katholischen Frauengemeinschaft \n17:00 Uhr – 18:00 Uhr \nWeihnachtssingen mit dem Chor Celebration in der Kirche Sankt Briktius \n23:00 \nEnde
URL:https://www.rommerskirchen.de/veranstaltung/weihnachtssingen-mit-weihnachtsmarkt-in-oekoven/
LOCATION:Sankt Briktius Oekoven\, Roncalli Platz 1\, Rommerskirchen - Oekoven\, NRW\, 41569\, Deutschland
CATEGORIES:Besonderer Tag,Soziales,Veranstaltung,Weihnachten
ATTACH;FMTTYPE=image/jpeg:https://www.rommerskirchen.de/wp-content/uploads/2025/10/2025-12-06-Weihnachtssingen-mit-Weihnachtsmarkt-Oekoven.jpg
ORGANIZER;CN="Interessengemeinschaft Weihnachtssingen Oekoven":MAILTO:b.g.broich@unitybox.de
END:VEVENT
END:VCALENDAR