BEGIN:VCALENDAR
VERSION:2.0
PRODID:-//Gemeinde Rommerskirchen - ECPv6.15.17.1//NONSGML v1.0//EN
CALSCALE:GREGORIAN
METHOD:PUBLISH
X-WR-CALNAME:Gemeinde Rommerskirchen
X-ORIGINAL-URL:https://www.rommerskirchen.de
X-WR-CALDESC:Veranstaltungen für Gemeinde Rommerskirchen
REFRESH-INTERVAL;VALUE=DURATION:PT1H
X-Robots-Tag:noindex
X-PUBLISHED-TTL:PT1H
BEGIN:VTIMEZONE
TZID:Europe/Berlin
BEGIN:DAYLIGHT
TZOFFSETFROM:+0100
TZOFFSETTO:+0200
TZNAME:CEST
DTSTART:20240331T010000
END:DAYLIGHT
BEGIN:STANDARD
TZOFFSETFROM:+0200
TZOFFSETTO:+0100
TZNAME:CET
DTSTART:20241027T010000
END:STANDARD
BEGIN:DAYLIGHT
TZOFFSETFROM:+0100
TZOFFSETTO:+0200
TZNAME:CEST
DTSTART:20250330T010000
END:DAYLIGHT
BEGIN:STANDARD
TZOFFSETFROM:+0200
TZOFFSETTO:+0100
TZNAME:CET
DTSTART:20251026T010000
END:STANDARD
BEGIN:DAYLIGHT
TZOFFSETFROM:+0100
TZOFFSETTO:+0200
TZNAME:CEST
DTSTART:20260329T010000
END:DAYLIGHT
BEGIN:STANDARD
TZOFFSETFROM:+0200
TZOFFSETTO:+0100
TZNAME:CET
DTSTART:20261025T010000
END:STANDARD
END:VTIMEZONE
BEGIN:VEVENT
DTSTART;TZID=Europe/Berlin:20251202T183000
DTEND;TZID=Europe/Berlin:20251202T200000
DTSTAMP:20260421T222348
CREATED:20251107T104743Z
LAST-MODIFIED:20251107T104743Z
UID:10003755-1764700200-1764705600@www.rommerskirchen.de
SUMMARY:Engagement für nachhaltige Ernährung | Vortrag & Diskussion
DESCRIPTION:Ihr engagiert euch für nachhaltige Ernährung und sucht neue Ideen\, um eure Angebote wirkungsvoller zu gestalten? Dann kommt zu unserer digitalen Veranstaltung.\n\nWorum es geht: \nIm bürgerwissenschaftlichen Projekt „Food Facts – Gemeinsam zum Durchblick“ haben wir gemeinsam mit Engagierten Einstellungen und Kompetenzen rund um nachhaltige Ernährung erforscht – mithilfe einer Befragung der Bevölkerung im Rheinischen Revier. Wir haben daraus nun Schlussfolgerungen für die Praxis entwickelt und möchten mit euch Ideen diskutieren\, wie ihr Menschen mit dem Thema nachhaltiger Ernährung erreichen könnt. Außerdem stellen wir eine neu entwickelte Bildungseinheit vor\, die auf den Forschungsergebnissen basiert und die von euch genutzt werden kann. Die Bildungseinheit bekommen alle Teilnehmenden im Anschluss zur Verfügung. \nWas ihr mitnehmt: \n\nKlarheit\, welche Zielgruppen relevant sind und wie ihr sie ansprecht\nKonkrete Hinweise\, wie ihr Erkenntnisse in eure Bildungs  und Engagementarbeit übertragt\nEine sofort nutzbare Bildungseinheit und Ideen für den eigenen Einsatz\n\nAblauf & Mitmachen: \nZwei Kurzinputs und ausreichend Zeit für Fragen und Austausch — so können wir gemeinsam den Bezug zwischen den Inhalten und eurem Engagement diskutieren. \nFür wen? \nEingeladen sind Initiativen und Engagierte aus dem Rheinischen Revier (Rhein-Kreis Neuss\, Stadt Mönchengladbach\, Kreis Heinsberg\, Kreis Düren\, Rhein-Erft-Kreis\, Kreis Euskirchen\, Städteregion Aachen)\, die sich für nachhaltige Ernährung einsetzen z. B. Ernährungsräte\, foodsharing\, Gemeinschaftsgärten\, Solawis — gern auch Interessierte aus anderen Bereichen und hauptamtlich Tätige. \n\nAnmeldung\, Teilnahme & Kontakt \nRegistrierung über Zoom:\nhttps://us02web.zoom.us/meeting/register/0xLYGM6TTY6kqAH9QN0W5w \nDie Teilnahme ist kostenfrei. \nFragen an: citizen‑science@verbraucherzentrale.nrw
URL:https://www.rommerskirchen.de/veranstaltung/engagement-fuer-nachhaltige-ernaehrung-vortrag-diskussion/
LOCATION:online\, online\, online\, online
CATEGORIES:Veranstaltung
ORGANIZER;CN="Verbraucherzentrale NRW":MAILTO:jonas.grauel@verbraucherzentrale.nrw
END:VEVENT
END:VCALENDAR